BEGIN:VCALENDAR
VERSION:2.0
PRODID:-//ChamberMaster//Event Calendar 2.0//EN
METHOD:PUBLISH
X-PUBLISHED-TTL:P3D
REFRESH-INTERVAL:P3D
CALSCALE:GREGORIAN
BEGIN:VEVENT
DTSTART:20220226T230000Z
DTEND:20220227T000000Z
X-MICROSOFT-CDO-ALLDAYEVENT:FALSE
SUMMARY:A Classical Evening
DESCRIPTION:Ballet Hartford presents a classical bill with excerpts from Act II of Giselle alongside classical work created by choreographers Leyna Doran\, Stephanie Gagliardi\, and Kevin Jenkins. Classical variations performed by Ballet Hartford's Pre-Professional Division will be interspersed throughout the performance. A guest appearance and presentation by song writer and composer\, Michael Christian\, will also be included in this evening's bill.
X-ALT-DESC;FMTTYPE=text/html:<span style="font-family:lato\,sans-serif\; font-size:17px">Ballet Hartford presents a classical bill with excerpts from Act II of Giselle alongside classical work created by choreographers Leyna Doran\, Stephanie Gagliardi\, and Kevin Jenkins. Classical variations performed by Ballet Hartford&rsquo\;s Pre-Professional Division will be interspersed throughout the performance.&nbsp\;</span><span style="color:#000000"><span style="font-family:lato\,sans-serif\; font-size:17px">A guest appearance and presentation by song writer and composer\, Michael Christian\, will also be included in this evening&rsquo\;s bill.&nbsp\;</span></span>
LOCATION:EcoSpace 224 Farmington Ave Hartford CT 06105
UID:e.3150.9318
SEQUENCE:3
DTSTAMP:20260425T203210Z
URL:https://business.whchamber.com/events/details/a-classical-evening-9318
END:VEVENT

END:VCALENDAR
