BEGIN:VCALENDAR
VERSION:2.0
PRODID:-//ChamberMaster//Event Calendar 2.0//EN
METHOD:PUBLISH
X-PUBLISHED-TTL:P3D
REFRESH-INTERVAL:P3D
CALSCALE:GREGORIAN
BEGIN:VEVENT
DTSTART:20230224T233000Z
DTEND:20230225T010000Z
X-MICROSOFT-CDO-ALLDAYEVENT:FALSE
SUMMARY:A Classical Evening
DESCRIPTION:Enjoy a performance featuring Pysche and Eros\, a classic work from Bournonville and newly created neoclassical works by Connecticut choreographers!
X-ALT-DESC;FMTTYPE=text/html:<span style="color:rgb(57\, 54\, 79)\; font-family:neue plak\,-apple-system\,system-ui\,roboto\,helvetica neue\,helvetica\,tahoma\,arial\,sans-serif\; font-size:14px">Enjoy a performance featuring Pysche and Eros\, a classic work from Bournonville and newly created neoclassical works by Connecticut choreographers!</span>
LOCATION:The EcoSpace 224 Farmington Ave Hartford\, CT 06105
UID:e.3150.12495
SEQUENCE:3
DTSTAMP:20260425T180708Z
URL:https://business.whchamber.com/events/details/a-classical-evening-02-24-2023-12495
END:VEVENT

END:VCALENDAR
