BEGIN:VCALENDAR
VERSION:2.0
PRODID:-//ChamberMaster//Event Calendar 2.0//EN
METHOD:PUBLISH
X-PUBLISHED-TTL:P3D
REFRESH-INTERVAL:P3D
CALSCALE:GREGORIAN
BEGIN:VEVENT
DTSTART:20221211T150000Z
DTEND:20221211T160000Z
X-MICROSOFT-CDO-ALLDAYEVENT:FALSE
SUMMARY:A Charles Dickens Christmas (Sensory Friendly)
DESCRIPTION:Sensory Friendly productions at Playhouse on Park are produced with guidance from The Miracle League of CT. Sensory friendly productions are modified (eliminating bright lights\, loud or abrupt sounds\, keeping house lights on\, allowing digital devices and fidget toys\, and creating a safe space in the lobby) to accommodate children and adults of all abilities. If you need wheelchair accessible seats\, please call the box office directly at 860-523-5900 ext 10. All seats $10.00\, made possible by the generous support of The Miracle League of CT. A CHARLES DICKENS CHRISTMAS is a highly original and humorous take on A Christmas Carol that follows a young Charles Dickens\, unable to find much joy in life\, struggling to write the Christmas story that will become the most famous holiday tale of all time. With the intervention of a magical muse\, the elements of his famous A Christmas Carol begin to take shape. Dickens learns the true meaning of Christmas and finds in his past the inspiration for his immortal holiday classic. A Charles Dickens Christmas' rich musical score is sure to put the holiday cheer into every member of the audience.
X-ALT-DESC;FMTTYPE=text/html:Sensory Friendly productions at Playhouse on Park are produced with guidance from The Miracle League of CT. Sensory friendly productions are modified (eliminating bright lights\, loud or abrupt sounds\, keeping house lights on\, allowing digital devices and fidget toys\, and creating a safe space in the lobby) to accommodate children and adults of all abilities. If you need wheelchair accessible seats\, please call the box office directly at 860-523-5900 ext 10. All seats $10.00\, made possible by the generous support of The Miracle League of CT. A CHARLES DICKENS CHRISTMAS is a highly original and humorous take on A Christmas Carol that follows a young Charles Dickens\, unable to find much joy in life\, struggling to write the Christmas story that will become the most famous holiday tale of all time. With the intervention of a magical muse\, the elements of his famous A Christmas Carol begin to take shape. Dickens learns the true meaning of Christmas and finds in his past the inspiration for his immortal holiday classic. A Charles Dickens Christmas&#39\; rich musical score is sure to put the holiday cheer into every member of the audience.
LOCATION:Playhouse on Park
UID:e.3150.12418
SEQUENCE:3
DTSTAMP:20260425T211059Z
URL:https://business.whchamber.com/events/details/a-charles-dickens-christmas-sensory-friendly-12418
END:VEVENT

END:VCALENDAR
