BEGIN:VCALENDAR
VERSION:2.0
PRODID:-//ChamberMaster//Event Calendar 2.0//EN
METHOD:PUBLISH
X-PUBLISHED-TTL:P3D
REFRESH-INTERVAL:P3D
CALSCALE:GREGORIAN
BEGIN:VEVENT
DTSTART:20211106T180000Z
DTEND:20211107T010000Z
X-MICROSOFT-CDO-ALLDAYEVENT:FALSE
SUMMARY:6th Annual Real Ale Harvest Festival
DESCRIPTION:Beer you can't get anywhere else! Join us for the 6th annual Noah Webster Real Ale Harvest Fest on the grounds of the historic home. Breweries create a unique cask of Real Ale good for this one day only and there is a catch. Their brew must include an ingredient from Noah Webster's 18th century garden or pantry. Certified beer judges and special guests\, choose the Cask Champion. YOU choose the Taster's Choice Award Winner. Unlimited samples\, live music\, a commemorative tasting glass and program\, and food for purchase. Participating breweries are Alvarium Beer Co.\, Aspectuck Brew Lab\, Back East Brewing Company\, Brewery Legitimus\, City Steam Brewery Cafe\, Counter Weight Brewing Co.\, Firefly Hollow Brewing Co.\, Hanging Hills Brewing Co.\, Hog River Brewing Co.\, New England Brewing Co.\, Relic Brewing Co.\, Spoke & Spy Ciderworks\, Still Hill Brewery\, WeHa Brewing & Roasting Co. with Luppoleto Brewing Co.\, and Willimantic Brewing Co. Must be 21 years old with proper ID.
X-ALT-DESC;FMTTYPE=text/html:Beer you can&#39\;t get anywhere else! Join us for the 6th annual Noah Webster Real Ale Harvest Fest on the grounds of the historic home. Breweries create a unique cask of Real Ale good for this one day only and there is a catch. Their brew must include an ingredient from Noah Webster&#39\;s 18th century garden or pantry. Certified beer judges and special guests\, choose the Cask Champion. YOU choose the Taster&#39\;s Choice Award Winner. Unlimited samples\, live music\, a commemorative tasting glass and program\, and food for purchase. Participating breweries are Alvarium Beer Co.\, Aspectuck Brew Lab\, Back East Brewing Company\, Brewery Legitimus\, City Steam Brewery Cafe\, Counter Weight Brewing Co.\, Firefly Hollow Brewing Co.\, Hanging Hills Brewing Co.\, Hog River Brewing Co.\, New England Brewing Co.\, Relic Brewing Co.\, Spoke &amp\; Spy Ciderworks\, Still Hill Brewery\, WeHa Brewing &amp\; Roasting Co. with Luppoleto Brewing Co.\, and Willimantic Brewing Co. Must be 21 years old with proper ID.
LOCATION:Noah Webster House & West Hartford Historical Society
UID:e.3150.9262
SEQUENCE:3
DTSTAMP:20260425T164740Z
URL:https://business.whchamber.com/events/details/6th-annual-real-ale-harvest-festival-9262
END:VEVENT

END:VCALENDAR
