BEGIN:VCALENDAR
VERSION:2.0
PRODID:-//ChamberMaster//Event Calendar 2.0//EN
METHOD:PUBLISH
X-PUBLISHED-TTL:P3D
REFRESH-INTERVAL:P3D
CALSCALE:GREGORIAN
BEGIN:VEVENT
DTSTART:20221210T180000Z
DTEND:20221210T210000Z
X-MICROSOFT-CDO-ALLDAYEVENT:FALSE
SUMMARY:3rd Annual "Be A Good Friend" Toy Drive
DESCRIPTION:On Saturday\, December 10th\, 1-4 PM\, Friends of Feeney is hosting a Toy Drive at Sockstarz on 18 Lasalle Road in West Hartford. We are collecting toys and board games for children and families in need of assistance
X-ALT-DESC;FMTTYPE=text/html:<span style="background-color:rgb(255\, 255\, 255)\; color:rgb(5\, 5\, 5)\; font-family:system-ui\,-apple-system\,system-ui\,.sfnstext-regular\,sans-serif\; font-size:15px">On Saturday\, December 10th\, 1-4 PM\, Friends of Feeney is hosting a Toy Drive at Sockstarz on 18 Lasalle Road in West Hartford. We are collecting toys and board games for children and families in need of assistance</span>
LOCATION:Sockstarz 18 Lasalle Road West Hartford
UID:e.3150.12413
SEQUENCE:3
DTSTAMP:20260425T211220Z
URL:https://business.whchamber.com/events/details/3rd-annual-be-a-good-friend-toy-drive-12413
END:VEVENT

END:VCALENDAR
