BEGIN:VCALENDAR
VERSION:2.0
PRODID:-//ChamberMaster//Event Calendar 2.0//EN
METHOD:PUBLISH
X-PUBLISHED-TTL:P3D
REFRESH-INTERVAL:P3D
CALSCALE:GREGORIAN
BEGIN:VEVENT
DTSTART:20230402T133000Z
DTEND:20230402T163000Z
X-MICROSOFT-CDO-ALLDAYEVENT:FALSE
SUMMARY:2nd Annual Easter Brunch & Egg Hunt
DESCRIPTION:Join us for an Easter Brunch with the Easter Bunny and a family fun egg hunt! All ages will enjoy a delicious breakfast buffet\, a meet and greet with the Easter Bunny\, and an egg hunt on our great lawn in celebration of Easter.\n\n\n	Please bring your own Easter basket\n\n\nThere are two-time slots for this event:\n\n\n	9:30 AM - 10:30 AM\n\n\n\n	11:30 AM - 12:30 PM\n\n\nMenu: The Baker's Basket: Croissants\, Muffins\, Danish\, Bagels with Cream Cheese\, Pancakes\, French Toast\, Sweet French Butter\, Maple Syrup\, & Premium Fruit Preserves. Assorted Yogurt and Homemade Granola\, Fresh Seasonal Fruits & Berries\, Home Fries\, Scrambled Eggs\, Bacon\, Orange & Grapefruit Juices\, Coffee\, and Tea.\n\nAdult Beverages: Cash Bar with Mimosas\, Bloody Marys\, Beer\, & Wine\n\n*Children 12 Months and under are complimentary*\n\nK?indly Note - there is no onsite parking\, guests can utilize street parking or park in the Memorial or Isham parking garages and walk (0.2 miles) over to the hotel.
X-ALT-DESC;FMTTYPE=text/html:<p>Join us for an Easter Brunch with the Easter Bunny and a family fun egg hunt! All ages will enjoy a delicious breakfast buffet\, a meet and greet with the Easter Bunny\, and an egg hunt on our great lawn in celebration of Easter.</p>\n\n<ul>\n	<li><em><strong>Please bring your own Easter basket</strong></em></li>\n</ul>\n\n<p>There are two-time slots for this event:</p>\n\n<ul>\n	<li><strong>9:30 AM - 10:30 AM</strong></li>\n</ul>\n\n<ul>\n	<li><strong>11:30 AM - 12:30 PM</strong></li>\n</ul>\n\n<p><strong>Menu: </strong>The Baker&#39\;s Basket: Croissants\, Muffins\, Danish\, Bagels with Cream Cheese\, Pancakes\, French Toast\, Sweet French Butter\, Maple Syrup\, &amp\; Premium Fruit Preserves. Assorted Yogurt and Homemade Granola\, Fresh Seasonal Fruits &amp\; Berries\, Home Fries\, Scrambled Eggs\, Bacon\, Orange &amp\; Grapefruit Juices\, Coffee\, and Tea.</p>\n\n<p><strong>Adult Beverages</strong>: Cash Bar with Mimosas\, Bloody Marys\, Beer\, &amp\; Wine</p>\n\n<p>*Children 12 Months and under are complimentary*</p>\n\n<p><strong><em>K?indly Note - there is no onsite parking\, guests can utilize street parking or park in the Memorial or Isham parking garages and walk (0.2 miles) over to the hotel.</em></strong></p>\n
LOCATION:Delamar West Hartford 1 Memorial Road\, West Hartford\, CT 06107
UID:e.3150.12500
SEQUENCE:3
DTSTAMP:20260425T164504Z
URL:https://business.whchamber.com/events/details/2nd-annual-easter-brunch-egg-hunt-12500
END:VEVENT

END:VCALENDAR
