BEGIN:VCALENDAR
VERSION:2.0
PRODID:-//ChamberMaster//Event Calendar 2.0//EN
METHOD:PUBLISH
X-PUBLISHED-TTL:P3D
REFRESH-INTERVAL:P3D
CALSCALE:GREGORIAN
BEGIN:VEVENT
DTSTART:20221218T140000Z
DTEND:20221218T170000Z
X-MICROSOFT-CDO-ALLDAYEVENT:FALSE
SUMMARY:2nd Annual Breakfast with Santa
DESCRIPTION:Enjoy Breakfast with Santa and Support The Village for Families & Children\n\nAll ages will enjoy a delicious breakfast buffet and meet n greet with Santa. Your ticket also includes children's activities\, s'mores by our firepits\, & holiday crafts.\n\n*Children 12 Months and under are complimentary*\n\nMenu: The Baker's Basket: Croissants\, Muffins\, Danish\, Bagels with Cream Cheese\, Sweet French Butter & Premium Fruit Preserves. Assorted Yogurt and Homemade Granola\, Fresh Seasonal Fruits & Berries\, Home Fries\, Scrambled Eggs\, Bacon\, Pancakes\, Oatmeal\, Orange & Grapefruit Juices\, Coffee\, and Tea.\n\nAdult Beverages: Cash Bar with Mimosas\, Bloody Marys\, Beer\, & Wine\n\n20% of each ticket purchased will be donated to The Village to help build a community of strong\, healthy families who protect and nurture children.\n\nP?lease note there is no parking onsite. Parking is available on the street or in the Memorial Parking Garage located just a 3 -minute walk from the Hotel.
X-ALT-DESC;FMTTYPE=text/html:<p>Enjoy Breakfast with Santa and Support&nbsp\;<a href="https://thevillage.org/" rel="nofollow noopener noreferrer" style="text-decoration-line: none\; color: var(--eds-control\,#3659e3)\; cursor: pointer\; background-color: transparent\; box-sizing: border-box\; padding-top: 0px\;" target="_blank">The Village for Families &amp\; Children</a></p>\n\n<p>All ages will enjoy a delicious breakfast buffet and meet n greet with Santa. Your ticket also includes children&#39\;s activities\, s&#39\;mores by our firepits\, &amp\; holiday crafts.</p>\n\n<p><em><strong>*Children 12 Months and under are complimentary*</strong></em></p>\n\n<p><strong>Menu:</strong>&nbsp\;The Baker&#39\;s Basket: Croissants\, Muffins\, Danish\, Bagels with Cream Cheese\, Sweet French Butter &amp\; Premium Fruit Preserves. Assorted Yogurt and Homemade Granola\, Fresh Seasonal Fruits &amp\; Berries\, Home Fries\, Scrambled Eggs\, Bacon\, Pancakes\, Oatmeal\, Orange &amp\; Grapefruit Juices\, Coffee\, and Tea.</p>\n\n<p>Adult Beverages: Cash Bar with Mimosas\, Bloody Marys\, Beer\, &amp\; Wine</p>\n\n<p><strong>20% of each ticket purchased will be donated to The Village to help build a community of strong\, healthy families who protect and nurture children.</strong></p>\n\n<p><em>P?lease note there is no parking onsite. Parking is available on the street or in the Memorial Parking Garage located just a 3 -minute walk from the Hotel.</em></p>\n
LOCATION:Delamar West Hartford 1 Memorial Road West Hartford\, CT 06107
UID:e.3150.12399
SEQUENCE:3
DTSTAMP:20260425T210417Z
URL:https://business.whchamber.com/events/details/2nd-annual-breakfast-with-santa-12399
END:VEVENT

END:VCALENDAR
