BEGIN:VCALENDAR
VERSION:2.0
PRODID:-//ChamberMaster//Event Calendar 2.0//EN
METHOD:PUBLISH
X-PUBLISHED-TTL:P3D
REFRESH-INTERVAL:P3D
CALSCALE:GREGORIAN
BEGIN:VEVENT
DTSTART:20230317T113000Z
DTEND:20230317T130000Z
X-MICROSOFT-CDO-ALLDAYEVENT:FALSE
SUMMARY:23rd Annual St. Patrick's Day Breakfast
DESCRIPTION:Please join the Foundation for the Advancement of Catholic Schools (FACS) at the 23rd Annual St. Patrick's Day Breakfast. FACS is excited to welcome Staff Sgt. (Ret.) Johnny Joey Jones as guest speaker and emcee\, Irene O'Connor\, WFSB Reporter and Anchor. Net proceeds benefit FACS which provides scholarships to students attending Catholic schools.
X-ALT-DESC;FMTTYPE=text/html:Please join the Foundation for the Advancement of Catholic Schools (FACS) at the 23rd Annual St. Patrick&#39\;s Day Breakfast. FACS is excited to welcome Staff Sgt. (Ret.) Johnny Joey Jones as guest speaker and emcee\, Irene O&#39\;Connor\, WFSB Reporter and Anchor. Net proceeds benefit FACS which provides scholarships to students attending Catholic schools.
LOCATION:Hartford Marriott Downtown
UID:e.3150.12499
SEQUENCE:3
DTSTAMP:20260425T164612Z
URL:https://business.whchamber.com/events/details/23rd-annual-st-patrick-s-day-breakfast-12499
END:VEVENT

END:VCALENDAR
