BEGIN:VCALENDAR
VERSION:2.0
PRODID:-//ChamberMaster//Event Calendar 2.0//EN
METHOD:PUBLISH
X-PUBLISHED-TTL:P3D
REFRESH-INTERVAL:P3D
CALSCALE:GREGORIAN
BEGIN:VEVENT
DTSTART;VALUE=DATE:20230203
DTEND;VALUE=DATE:20230205
TRANSP:TRANSPARENT
X-MICROSOFT-CDO-ALLDAYEVENT:TRUE
SUMMARY:2023 Alzheimer's Association's New England Family Conference
DESCRIPTION:The New England chapters are offering a free virtual family conference in early February for those living with Alzheimer's and dementia and their families.\n\nSessions include a panel of people talking about living with early-stage dementia\, tips and strategies for living well with cognitive changes\, the use of mindfulness practice\, a caregiver panel\, how to approach resistance to care\, and creating a healthy and safe environment for living with dementia.\n\nThe New England Family Conference is set for February 3-4\, & will be offered simultaneously in English and Spanish\, with a special session in Spanish only on February 3.\n\nRegister here: alzfamilyconference.org
X-ALT-DESC;FMTTYPE=text/html:<span style="color:rgba(0\, 0\, 0\, 0.9)\; font-family:-apple-system\,system-ui\,blinkmacsystemfont\,segoe ui\,roboto\,helvetica neue\,fira sans\,ubuntu\,oxygen\,oxygen sans\,cantarell\,droid sans\,apple color emoji\,segoe ui emoji\,segoe ui emoji\,segoe ui symbol\,lucida grande\,helvetica\,arial\,sans-serif\; font-size:14px">The New England chapters are offering a free virtual family conference in early February for those living with Alzheimer&#39\;s and dementia and their families.</span><br />\n<span style="color:rgba(0\, 0\, 0\, 0.9)\; font-family:-apple-system\,system-ui\,blinkmacsystemfont\,segoe ui\,roboto\,helvetica neue\,fira sans\,ubuntu\,oxygen\,oxygen sans\,cantarell\,droid sans\,apple color emoji\,segoe ui emoji\,segoe ui emoji\,segoe ui symbol\,lucida grande\,helvetica\,arial\,sans-serif\; font-size:14px">Sessions include a panel of people talking about living with early-stage dementia\, tips and strategies for living well with cognitive changes\, the use of mindfulness practice\, a caregiver panel\, how to approach resistance to care\, and creating a healthy and safe environment for living with dementia.</span><br />\n<span style="color:rgba(0\, 0\, 0\, 0.9)\; font-family:-apple-system\,system-ui\,blinkmacsystemfont\,segoe ui\,roboto\,helvetica neue\,fira sans\,ubuntu\,oxygen\,oxygen sans\,cantarell\,droid sans\,apple color emoji\,segoe ui emoji\,segoe ui emoji\,segoe ui symbol\,lucida grande\,helvetica\,arial\,sans-serif\; font-size:14px">The New England Family Conference is set for February 3-4\, &amp\; will be offered simultaneously in English and Spanish\, with a special session in Spanish only on February 3.</span><br />\n<span style="color:rgba(0\, 0\, 0\, 0.9)\; font-family:-apple-system\,system-ui\,blinkmacsystemfont\,segoe ui\,roboto\,helvetica neue\,fira sans\,ubuntu\,oxygen\,oxygen sans\,cantarell\,droid sans\,apple color emoji\,segoe ui emoji\,segoe ui emoji\,segoe ui symbol\,lucida grande\,helvetica\,arial\,sans-serif\; font-size:14px">Register here:&nbsp\;</span><a href="http://alzfamilyconference.org/" style="box-sizing: inherit\; margin: var(--artdeco-reset-base-margin-zero)\; padding: var(--artdeco-reset-base-padding-zero)\; font-size: 14px\; vertical-align: var(--artdeco-reset-base-vertical-align-baseline)\; text-decoration: var(--artdeco-reset-link-text-decoration-none)\; font-weight: var(--font-weight-bold)\; border: var(--artdeco-reset-link-border-zero)\; color: var(--color-action)\; touch-action: manipulation\; position: relative\; word-break: normal\; overflow-wrap: normal\; font-family: -apple-system\, system-ui\, BlinkMacSystemFont\, &quot\;Segoe UI&quot\;\, Roboto\, &quot\;Helvetica Neue&quot\;\, &quot\;Fira Sans&quot\;\, Ubuntu\, Oxygen\, &quot\;Oxygen Sans&quot\;\, Cantarell\, &quot\;Droid Sans&quot\;\, &quot\;Apple Color Emoji&quot\;\, &quot\;Segoe UI Emoji&quot\;\, &quot\;Segoe UI Emoji&quot\;\, &quot\;Segoe UI Symbol&quot\;\, &quot\;Lucida Grande&quot\;\, Helvetica\, Arial\, sans-serif\; line-height: inherit !important\;">alzfamilyconference.org</a>
LOCATION:Virtual
UID:e.3150.12465
SEQUENCE:3
DTSTAMP:20260425T181718Z
URL:https://business.whchamber.com/events/details/2023-alzheimer-s-association-s-new-england-family-conference-12465
END:VEVENT

END:VCALENDAR
