BEGIN:VCALENDAR
VERSION:2.0
PRODID:-//ChamberMaster//Event Calendar 2.0//EN
METHOD:PUBLISH
X-PUBLISHED-TTL:P3D
REFRESH-INTERVAL:P3D
CALSCALE:GREGORIAN
BEGIN:VEVENT
DTSTART:20260502T160000Z
DTEND:20260502T160000Z
X-MICROSOFT-CDO-ALLDAYEVENT:FALSE
SUMMARY:17th Annual Ron's Run for the Roses
DESCRIPTION:Ron's Run for the Roses is the Ron Foley Foundation's signature annual Kentucky Derby gala\, held each spring at the beautiful Farmington Polo Club. Guests are encouraged to embrace the spirit of Derby Day by dressing in their finest race-day attire for an afternoon of southern fare\, mint juleps\, a live and silent auction\, and live music.\n\n\n\nMost importantly\, Ron's Run for the Roses brings the community together to raise critical funds to support pancreatic cancer patients and their families\, empower caregivers\, and increase awareness of this devastating disease. Inspired by the memory of Ron Foley\, the event is a celebration of community\, generosity\, and hope.
X-ALT-DESC;FMTTYPE=text/html:<p>Ron&#39\;s Run for the Roses&nbsp\;is the Ron Foley Foundation&rsquo\;s signature annual Kentucky Derby gala\, held each spring at the beautiful Farmington Polo Club. Guests are encouraged to embrace the spirit of Derby Day by dressing in their finest race-day attire for an afternoon of southern fare\, mint juleps\, a live and silent auction\, and live music.<br />\n<br />\nMost importantly\, Ron&rsquo\;s Run for the Roses brings the community together to raise critical funds to support pancreatic cancer patients and their families\, empower caregivers\, and increase awareness of this devastating disease. Inspired by the memory of Ron Foley\, the event is a celebration of community\, generosity\, and hope.</p>\n
LOCATION:Farmington Polo Club 162 Town Farm Road Farmington\, CT 06032
UID:e.3150.17082
SEQUENCE:3
DTSTAMP:20260425T143434Z
URL:https://business.whchamber.com/events/details/17th-annual-ron-s-run-for-the-roses-17082
END:VEVENT

END:VCALENDAR
